BEGIN:VCALENDAR
VERSION:2.0
PRODID:spatie/icalendar-generator
DESCRIPTION:Events from Estimate Bank
X-WR-CALDESC:Events from Estimate Bank
REFRESH-INTERVAL;VALUE=DURATION:PT1440M
X-PUBLISHED-TTL:PT1440M
BEGIN:VTIMEZONE
TZID:Etc/GMT+6
BEGIN:STANDARD
DTSTART:20250803T000000Z
TZOFFSETFROM:-0600
TZOFFSETTO:-0600
END:STANDARD
END:VTIMEZONE
BEGIN:VTIMEZONE
TZID:UTC
BEGIN:STANDARD
DTSTART:20250728T160233Z
TZOFFSETFROM:+0000
TZOFFSETTO:+0000
END:STANDARD
END:VTIMEZONE
BEGIN:VEVENT
UID:308-238
DTSTAMP:20260424T160233Z
SUMMARY:Roberts Fresh Market Metairie Road
LOCATION:
ORGANIZER;CN=David:MAILTO:dgross51@cox.net
DTSTART;TZID=Etc/GMT+6;VALUE=DATE:20260430
DTEND;TZID=Etc/GMT+6;VALUE=DATE:20260501
X-ALT-DESC;FMTTYPE=TEXT/HTML:
CATEGORIES:General
URL;VALUE=URI:https://estimatebank.com/mc-events/roberts-fresh-market-metai
 rie-road/
METHOD:PUBLISH
END:VEVENT
END:VCALENDAR